BEGIN:VCALENDAR
VERSION:2.0
PRODID:-//EHBO Ossendrecht - ECPv6.15.20//NONSGML v1.0//EN
CALSCALE:GREGORIAN
METHOD:PUBLISH
X-WR-CALNAME:EHBO Ossendrecht
X-ORIGINAL-URL:https://ehbo-ossendrecht.nl
X-WR-CALDESC:Evenementen voor EHBO Ossendrecht
REFRESH-INTERVAL;VALUE=DURATION:PT1H
X-Robots-Tag:noindex
X-PUBLISHED-TTL:PT1H
BEGIN:VTIMEZONE
TZID:Europe/Amsterdam
BEGIN:DAYLIGHT
TZOFFSETFROM:+0100
TZOFFSETTO:+0200
TZNAME:CEST
DTSTART:20240331T010000
END:DAYLIGHT
BEGIN:STANDARD
TZOFFSETFROM:+0200
TZOFFSETTO:+0100
TZNAME:CET
DTSTART:20241027T010000
END:STANDARD
BEGIN:DAYLIGHT
TZOFFSETFROM:+0100
TZOFFSETTO:+0200
TZNAME:CEST
DTSTART:20250330T010000
END:DAYLIGHT
BEGIN:STANDARD
TZOFFSETFROM:+0200
TZOFFSETTO:+0100
TZNAME:CET
DTSTART:20251026T010000
END:STANDARD
BEGIN:DAYLIGHT
TZOFFSETFROM:+0100
TZOFFSETTO:+0200
TZNAME:CEST
DTSTART:20260329T010000
END:DAYLIGHT
BEGIN:STANDARD
TZOFFSETFROM:+0200
TZOFFSETTO:+0100
TZNAME:CET
DTSTART:20261025T010000
END:STANDARD
END:VTIMEZONE
BEGIN:VEVENT
DTSTART;TZID=Europe/Amsterdam:20250921T120000
DTEND;TZID=Europe/Amsterdam:20250921T183000
DTSTAMP:20260421T172927
CREATED:20250917T104548Z
LAST-MODIFIED:20250917T104616Z
UID:10000643-1758456000-1758479400@ehbo-ossendrecht.nl
SUMMARY:Hello Goodbye Festival/Wandelmarathon Roos van Roosendaal
DESCRIPTION:Het Hello Goodbye Festival wordt voor de 1e keer georganiseerd. Het festival is gratis\, dus is het inschatten van het aantal bezoekers lastig.\nDit evenement is een onderdeel van Wandelmarathon Roos van Roosendaal. Op de Markt in Wouw is een stempelpost voor de wandelaar. De wandelaars komen dus voorbij dit evenement.\nVoor het evenement op de Markt te Wouw hebben wij 2 EHBO-ers nodig.\nVoor meer informatie zie website wandelmarathonroosvanroosendaal.nl \nDe start en finish van de wandelaars is bij het THOR honk Nispenseweg 5 te Roosendaal.\nIndien mogelijk willen wij ook op deze locatie een EHBO-er van 12.00 uur tot 17.00 uur.
URL:https://ehbo-ossendrecht.nl/agenda/hello-goodbye-festival-wandelmarathon-roos-van-roosendaal/
LOCATION:Wouw/Roosendaal
CATEGORIES:Steunverleningen
END:VEVENT
END:VCALENDAR