BEGIN:VCALENDAR
VERSION:2.0
PRODID:-//EHBO Ossendrecht - ECPv6.15.20//NONSGML v1.0//EN
CALSCALE:GREGORIAN
METHOD:PUBLISH
X-ORIGINAL-URL:https://ehbo-ossendrecht.nl
X-WR-CALDESC:Evenementen voor EHBO Ossendrecht
REFRESH-INTERVAL;VALUE=DURATION:PT1H
X-Robots-Tag:noindex
X-PUBLISHED-TTL:PT1H
BEGIN:VTIMEZONE
TZID:Europe/Amsterdam
BEGIN:DAYLIGHT
TZOFFSETFROM:+0100
TZOFFSETTO:+0200
TZNAME:CEST
DTSTART:20250330T010000
END:DAYLIGHT
BEGIN:STANDARD
TZOFFSETFROM:+0200
TZOFFSETTO:+0100
TZNAME:CET
DTSTART:20251026T010000
END:STANDARD
BEGIN:DAYLIGHT
TZOFFSETFROM:+0100
TZOFFSETTO:+0200
TZNAME:CEST
DTSTART:20260329T010000
END:DAYLIGHT
BEGIN:STANDARD
TZOFFSETFROM:+0200
TZOFFSETTO:+0100
TZNAME:CET
DTSTART:20261025T010000
END:STANDARD
BEGIN:DAYLIGHT
TZOFFSETFROM:+0100
TZOFFSETTO:+0200
TZNAME:CEST
DTSTART:20270328T010000
END:DAYLIGHT
BEGIN:STANDARD
TZOFFSETFROM:+0200
TZOFFSETTO:+0100
TZNAME:CET
DTSTART:20271031T010000
END:STANDARD
END:VTIMEZONE
BEGIN:VEVENT
DTSTART;TZID=Europe/Amsterdam:20260720T123000
DTEND;TZID=Europe/Amsterdam:20260721T010000
DTSTAMP:20260423T004007
CREATED:20260203T120521Z
LAST-MODIFIED:20260203T120521Z
UID:10000673-1784550600-1784595600@ehbo-ossendrecht.nl
SUMMARY:Kermis Tilburg
DESCRIPTION:U kunt zich opgeven via de link in de app. \nEr zijn twee dagdelen. \nHet is van vrijdag van 17 tot donderdag 23 juli
URL:https://ehbo-ossendrecht.nl/agenda/kermis-tilburg/
LOCATION:Tilburg
CATEGORIES:Steunverlening buiten de vereniging
END:VEVENT
END:VCALENDAR