BEGIN:VCALENDAR
VERSION:2.0
PRODID:-//EHBO Ossendrecht - ECPv6.15.20//NONSGML v1.0//EN
CALSCALE:GREGORIAN
METHOD:PUBLISH
X-ORIGINAL-URL:https://ehbo-ossendrecht.nl
X-WR-CALDESC:Evenementen voor EHBO Ossendrecht
REFRESH-INTERVAL;VALUE=DURATION:PT1H
X-Robots-Tag:noindex
X-PUBLISHED-TTL:PT1H
BEGIN:VTIMEZONE
TZID:Europe/Amsterdam
BEGIN:DAYLIGHT
TZOFFSETFROM:+0100
TZOFFSETTO:+0200
TZNAME:CEST
DTSTART:20250330T010000
END:DAYLIGHT
BEGIN:STANDARD
TZOFFSETFROM:+0200
TZOFFSETTO:+0100
TZNAME:CET
DTSTART:20251026T010000
END:STANDARD
BEGIN:DAYLIGHT
TZOFFSETFROM:+0100
TZOFFSETTO:+0200
TZNAME:CEST
DTSTART:20260329T010000
END:DAYLIGHT
BEGIN:STANDARD
TZOFFSETFROM:+0200
TZOFFSETTO:+0100
TZNAME:CET
DTSTART:20261025T010000
END:STANDARD
BEGIN:DAYLIGHT
TZOFFSETFROM:+0100
TZOFFSETTO:+0200
TZNAME:CEST
DTSTART:20270328T010000
END:DAYLIGHT
BEGIN:STANDARD
TZOFFSETFROM:+0200
TZOFFSETTO:+0100
TZNAME:CET
DTSTART:20271031T010000
END:STANDARD
END:VTIMEZONE
BEGIN:VEVENT
DTSTART;TZID=Europe/Amsterdam:20260110T091500
DTEND;TZID=Europe/Amsterdam:20260110T170000
DTSTAMP:20260423T002959
CREATED:20251203T133246Z
LAST-MODIFIED:20251208T165250Z
UID:10000658-1768036500-1768064400@ehbo-ossendrecht.nl
SUMMARY:NK veldrijden Huijbergen
DESCRIPTION:09.20 Alle EHBO-ers verzamelen in de loods van\nJEST Equipment\, Weg naar Wouw 5. Koffie\ndrinken. Verplaatsen naar de EHBO unut Weg\nnaar Wouw \n09.30 Iedereen bij de EHBO unit Weg naar Wouw.\nGroepsfoto maken. Laatste mededelingen en\nEHBO spullen pakken. \n09.45 Iedereen naar zijn post i groots evenement \n 
URL:https://ehbo-ossendrecht.nl/agenda/nk-veldrijden-huijbergen/
LOCATION:Huijbergen
CATEGORIES:Steunverlening buiten de vereniging,Steunverleningen
END:VEVENT
BEGIN:VEVENT
DTSTART;TZID=Europe/Amsterdam:20260111T091500
DTEND;TZID=Europe/Amsterdam:20260111T160000
DTSTAMP:20260423T002959
CREATED:20251203T133519Z
LAST-MODIFIED:20251208T165538Z
UID:10000659-1768122900-1768147200@ehbo-ossendrecht.nl
SUMMARY:NK veldrijden Huijbergen
DESCRIPTION:09.15 Alle EHBO verzamelen bij JEST Equipment. Laatste mededelingen.\nUitreiken EHBO-spullen. Foto maken.\n10:30 Iedereen naar de EHBO posten.\n11:00 Start amateurs/sportklasse/masters 40+ 40 minuten
URL:https://ehbo-ossendrecht.nl/agenda/nk-veldrijden-huijbergen-2/
LOCATION:Huijbergen
CATEGORIES:Steunverlening buiten de vereniging,Steunverleningen
END:VEVENT
BEGIN:VEVENT
DTSTART;TZID=Europe/Amsterdam:20260720T123000
DTEND;TZID=Europe/Amsterdam:20260721T010000
DTSTAMP:20260423T002959
CREATED:20260203T120521Z
LAST-MODIFIED:20260203T120521Z
UID:10000673-1784550600-1784595600@ehbo-ossendrecht.nl
SUMMARY:Kermis Tilburg
DESCRIPTION:U kunt zich opgeven via de link in de app. \nEr zijn twee dagdelen. \nHet is van vrijdag van 17 tot donderdag 23 juli
URL:https://ehbo-ossendrecht.nl/agenda/kermis-tilburg/
LOCATION:Tilburg
CATEGORIES:Steunverlening buiten de vereniging
END:VEVENT
END:VCALENDAR