BEGIN:VCALENDAR
VERSION:2.0
PRODID:-//EHBO Ossendrecht - ECPv6.15.20//NONSGML v1.0//EN
CALSCALE:GREGORIAN
METHOD:PUBLISH
X-ORIGINAL-URL:https://ehbo-ossendrecht.nl
X-WR-CALDESC:Evenementen voor EHBO Ossendrecht
REFRESH-INTERVAL;VALUE=DURATION:PT1H
X-Robots-Tag:noindex
X-PUBLISHED-TTL:PT1H
BEGIN:VTIMEZONE
TZID:Europe/Amsterdam
BEGIN:DAYLIGHT
TZOFFSETFROM:+0100
TZOFFSETTO:+0200
TZNAME:CEST
DTSTART:20240331T010000
END:DAYLIGHT
BEGIN:STANDARD
TZOFFSETFROM:+0200
TZOFFSETTO:+0100
TZNAME:CET
DTSTART:20241027T010000
END:STANDARD
BEGIN:DAYLIGHT
TZOFFSETFROM:+0100
TZOFFSETTO:+0200
TZNAME:CEST
DTSTART:20250330T010000
END:DAYLIGHT
BEGIN:STANDARD
TZOFFSETFROM:+0200
TZOFFSETTO:+0100
TZNAME:CET
DTSTART:20251026T010000
END:STANDARD
BEGIN:DAYLIGHT
TZOFFSETFROM:+0100
TZOFFSETTO:+0200
TZNAME:CEST
DTSTART:20260329T010000
END:DAYLIGHT
BEGIN:STANDARD
TZOFFSETFROM:+0200
TZOFFSETTO:+0100
TZNAME:CET
DTSTART:20261025T010000
END:STANDARD
END:VTIMEZONE
BEGIN:VEVENT
DTSTART;TZID=Europe/Amsterdam:20251013T200000
DTEND;TZID=Europe/Amsterdam:20251013T220000
DTSTAMP:20260423T233721
CREATED:20250909T091440Z
LAST-MODIFIED:20250909T092711Z
UID:10000619-1760385600-1760392800@ehbo-ossendrecht.nl
SUMMARY:Sessie 2 BLS/AED
DESCRIPTION:
URL:https://ehbo-ossendrecht.nl/agenda/sessie-1-stoonisssen-in-de-vitale-functies-3/
LOCATION:Eetcafé Boulevard\, Ossendrecht\, Koningin Wilhelminastraat 1\, Ossendrecht\, Nederland
CATEGORIES:BLS/AED,Lesavonden
ORGANIZER;CN="EHBO Ossendrecht":MAILTO:info@ehbo-ossendrecht.nl
GEO:51.3956447;4.3290658
X-APPLE-STRUCTURED-LOCATION;VALUE=URI;X-ADDRESS=Eetcafé Boulevard Ossendrecht Koningin Wilhelminastraat 1 Ossendrecht Nederland;X-APPLE-RADIUS=500;X-TITLE=Koningin Wilhelminastraat 1:geo:4.3290658,51.3956447
END:VEVENT
BEGIN:VEVENT
DTSTART;TZID=Europe/Amsterdam:20251016T200000
DTEND;TZID=Europe/Amsterdam:20251016T220000
DTSTAMP:20260423T233721
CREATED:20250909T094019Z
LAST-MODIFIED:20250909T094019Z
UID:10000621-1760644800-1760652000@ehbo-ossendrecht.nl
SUMMARY:Sessie 2 BLS/AED
DESCRIPTION:
URL:https://ehbo-ossendrecht.nl/agenda/sessie-2-bls-aed/
LOCATION:Eetcafé Boulevard\, Ossendrecht\, Koningin Wilhelminastraat 1\, Ossendrecht\, Nederland
CATEGORIES:BLS/AED,Lesavonden
ORGANIZER;CN="EHBO Ossendrecht":MAILTO:info@ehbo-ossendrecht.nl
GEO:51.3956447;4.3290658
X-APPLE-STRUCTURED-LOCATION;VALUE=URI;X-ADDRESS=Eetcafé Boulevard Ossendrecht Koningin Wilhelminastraat 1 Ossendrecht Nederland;X-APPLE-RADIUS=500;X-TITLE=Koningin Wilhelminastraat 1:geo:4.3290658,51.3956447
END:VEVENT
BEGIN:VEVENT
DTSTART;TZID=Europe/Amsterdam:20251027T200000
DTEND;TZID=Europe/Amsterdam:20251027T220000
DTSTAMP:20260423T233721
CREATED:20250909T094108Z
LAST-MODIFIED:20250909T094117Z
UID:10000625-1761595200-1761602400@ehbo-ossendrecht.nl
SUMMARY:Sessie 2 BLS/AED
DESCRIPTION:
URL:https://ehbo-ossendrecht.nl/agenda/sessie-2-bls-aed-2/
LOCATION:Eetcafé Boulevard\, Ossendrecht\, Koningin Wilhelminastraat 1\, Ossendrecht\, Nederland
CATEGORIES:BLS/AED,Lesavonden
ORGANIZER;CN="EHBO Ossendrecht":MAILTO:info@ehbo-ossendrecht.nl
GEO:51.3956447;4.3290658
X-APPLE-STRUCTURED-LOCATION;VALUE=URI;X-ADDRESS=Eetcafé Boulevard Ossendrecht Koningin Wilhelminastraat 1 Ossendrecht Nederland;X-APPLE-RADIUS=500;X-TITLE=Koningin Wilhelminastraat 1:geo:4.3290658,51.3956447
END:VEVENT
BEGIN:VEVENT
DTSTART;TZID=Europe/Amsterdam:20251030T200000
DTEND;TZID=Europe/Amsterdam:20251030T220000
DTSTAMP:20260423T233721
CREATED:20250909T094215Z
LAST-MODIFIED:20250909T094215Z
UID:10000626-1761854400-1761861600@ehbo-ossendrecht.nl
SUMMARY:Sessie 2 BLS/AED
DESCRIPTION:
URL:https://ehbo-ossendrecht.nl/agenda/sessie-2-bls-aed-3/
LOCATION:Eetcafé Boulevard\, Ossendrecht\, Koningin Wilhelminastraat 1\, Ossendrecht\, Nederland
CATEGORIES:BLS/AED,Lesavonden
ORGANIZER;CN="EHBO Ossendrecht":MAILTO:info@ehbo-ossendrecht.nl
GEO:51.3956447;4.3290658
X-APPLE-STRUCTURED-LOCATION;VALUE=URI;X-ADDRESS=Eetcafé Boulevard Ossendrecht Koningin Wilhelminastraat 1 Ossendrecht Nederland;X-APPLE-RADIUS=500;X-TITLE=Koningin Wilhelminastraat 1:geo:4.3290658,51.3956447
END:VEVENT
END:VCALENDAR