BEGIN:VCALENDAR
VERSION:2.0
PRODID:-//EHBO Ossendrecht - ECPv6.15.20//NONSGML v1.0//EN
CALSCALE:GREGORIAN
METHOD:PUBLISH
X-WR-CALNAME:EHBO Ossendrecht
X-ORIGINAL-URL:https://ehbo-ossendrecht.nl
X-WR-CALDESC:Evenementen voor EHBO Ossendrecht
REFRESH-INTERVAL;VALUE=DURATION:PT1H
X-Robots-Tag:noindex
X-PUBLISHED-TTL:PT1H
BEGIN:VTIMEZONE
TZID:Europe/Amsterdam
BEGIN:DAYLIGHT
TZOFFSETFROM:+0100
TZOFFSETTO:+0200
TZNAME:CEST
DTSTART:20250330T010000
END:DAYLIGHT
BEGIN:STANDARD
TZOFFSETFROM:+0200
TZOFFSETTO:+0100
TZNAME:CET
DTSTART:20251026T010000
END:STANDARD
BEGIN:DAYLIGHT
TZOFFSETFROM:+0100
TZOFFSETTO:+0200
TZNAME:CEST
DTSTART:20260329T010000
END:DAYLIGHT
BEGIN:STANDARD
TZOFFSETFROM:+0200
TZOFFSETTO:+0100
TZNAME:CET
DTSTART:20261025T010000
END:STANDARD
BEGIN:DAYLIGHT
TZOFFSETFROM:+0100
TZOFFSETTO:+0200
TZNAME:CEST
DTSTART:20270328T010000
END:DAYLIGHT
BEGIN:STANDARD
TZOFFSETFROM:+0200
TZOFFSETTO:+0100
TZNAME:CET
DTSTART:20271031T010000
END:STANDARD
END:VTIMEZONE
BEGIN:VEVENT
DTSTART;TZID=Europe/Amsterdam:20260202T193000
DTEND;TZID=Europe/Amsterdam:20260202T220000
DTSTAMP:20260423T001539
CREATED:20250910T205151Z
LAST-MODIFIED:20250910T205151Z
UID:10000641-1770060600-1770069600@ehbo-ossendrecht.nl
SUMMARY:Jaarvergadering
DESCRIPTION:
URL:https://ehbo-ossendrecht.nl/agenda/jaarvergadering-2/
LOCATION:Boulevard\, Kon. Wilhelminastraat 1\, Ossendrecht\, 4641 GR\, Nederland
CATEGORIES:Anders
ORGANIZER;CN="EHBO Ossendrecht":MAILTO:info@ehbo-ossendrecht.nl
GEO:51.3956447;4.3290658
X-APPLE-STRUCTURED-LOCATION;VALUE=URI;X-ADDRESS=Boulevard Kon. Wilhelminastraat 1 Ossendrecht 4641 GR Nederland;X-APPLE-RADIUS=500;X-TITLE=Kon. Wilhelminastraat 1:geo:4.3290658,51.3956447
END:VEVENT
BEGIN:VEVENT
DTSTART;TZID=Europe/Amsterdam:20260328T093000
DTEND;TZID=Europe/Amsterdam:20260328T153000
DTSTAMP:20260423T001539
CREATED:20251223T101926Z
LAST-MODIFIED:20251224T204858Z
UID:10000663-1774690200-1774711800@ehbo-ossendrecht.nl
SUMMARY:Informatiedag steunverleners
DESCRIPTION:informatiedag voor de steunverleners en herhaling EZV (geen vergoeding) \ntijden zijn nog niet definitief.
URL:https://ehbo-ossendrecht.nl/agenda/informatiedag-steunverleners/
LOCATION:de Jonckheer\, Aanwas 17\, Ossendrecht\, Noord-Brabant\, 4641 JE\, Nederland
CATEGORIES:Anders,Steunverleningen
ORGANIZER;CN="EHBO Ossendrecht":MAILTO:info@ehbo-ossendrecht.nl
GEO:51.393748;4.315017
X-APPLE-STRUCTURED-LOCATION;VALUE=URI;X-ADDRESS=de Jonckheer Aanwas 17 Ossendrecht Noord-Brabant 4641 JE Nederland;X-APPLE-RADIUS=500;X-TITLE=Aanwas 17:geo:4.315017,51.393748
END:VEVENT
END:VCALENDAR